BEGIN:VCALENDAR
VERSION:2.0
PRODID:-//LIVE.LOVE - ECPv4.7.3//NONSGML v1.0//EN
CALSCALE:GREGORIAN
METHOD:PUBLISH
X-WR-CALNAME:LIVE.LOVE
X-ORIGINAL-URL:http://golive.love
X-WR-CALDESC:Events for LIVE.LOVE
BEGIN:VEVENT
DTSTART;TZID=UTC+3:20190214T070000
DTEND;TZID=UTC+3:20190214T083000
DTSTAMP:20190214T025836
CREATED:20190205T091544Z
LAST-MODIFIED:20190205T111552Z
UID:28671-1550127600-1550133000@golive.love
SUMMARY:Открытая тренировка по бегу от LIVE.LOVE
DESCRIPTION:Попробуйте свои силы в Легкоатлетическом Манеже! \nПриглашаем на открытую беговую тренировку ко Дню влюбленных ❤️ \nУзнайте много интересного о технике бега\, о важности силовой подготовки и как правильно начать беговой сезон. \nC собой взять: сменную обувь кроссовки\, лосины\, футболку\, ветровку\, воду\, каримат и вторую половинку ❤️ \nТакже в программе: \n\nТехника бега\nСиловая подготовка\nСюрприз от LIVE.LOVE DANCE\n\nМесто: Легкоатлетический Манеж\, ул. Павла Тычины 18\nДата\, время: 14 февраля\, 7:00-8:30\nУчастие бесплатное\, но регистрация обязательна 👉  ТУТ\n \n  \n
URL:http://golive.love/lecture/14february-run/
LOCATION:Легкоатлетический манеж на Березняках\, пр. Павла Тычины 18\, Киев\, Украина
CATEGORIES:Run
ATTACH;FMTTYPE=image/jpeg:http://golive.love/wp-content/uploads/2019/02/48414885_2093596084020833_5355508460706332672_n.jpg
END:VEVENT
END:VCALENDAR